BEGIN:VCALENDAR
VERSION:2.0
PRODID:-//Autex Academy - ECPv6.15.13//NONSGML v1.0//EN
CALSCALE:GREGORIAN
METHOD:PUBLISH
X-WR-CALNAME:Autex Academy
X-ORIGINAL-URL:https://autexacademy.com.mx
X-WR-CALDESC:Eventos para Autex Academy
REFRESH-INTERVAL;VALUE=DURATION:PT1H
X-Robots-Tag:noindex
X-PUBLISHED-TTL:PT1H
BEGIN:VTIMEZONE
TZID:America/Chicago
BEGIN:DAYLIGHT
TZOFFSETFROM:-0600
TZOFFSETTO:-0500
TZNAME:CDT
DTSTART:20250309T080000
END:DAYLIGHT
BEGIN:STANDARD
TZOFFSETFROM:-0500
TZOFFSETTO:-0600
TZNAME:CST
DTSTART:20251102T070000
END:STANDARD
BEGIN:DAYLIGHT
TZOFFSETFROM:-0600
TZOFFSETTO:-0500
TZNAME:CDT
DTSTART:20260308T080000
END:DAYLIGHT
BEGIN:STANDARD
TZOFFSETFROM:-0500
TZOFFSETTO:-0600
TZNAME:CST
DTSTART:20261101T070000
END:STANDARD
BEGIN:DAYLIGHT
TZOFFSETFROM:-0600
TZOFFSETTO:-0500
TZNAME:CDT
DTSTART:20270314T080000
END:DAYLIGHT
BEGIN:STANDARD
TZOFFSETFROM:-0500
TZOFFSETTO:-0600
TZNAME:CST
DTSTART:20271107T070000
END:STANDARD
END:VTIMEZONE
BEGIN:VEVENT
DTSTART;TZID=America/Chicago:20260122T080000
DTEND;TZID=America/Chicago:20260122T170000
DTSTAMP:20260419T151903
CREATED:20260122T214100Z
LAST-MODIFIED:20260122T214100Z
UID:6032-1769068800-1769101200@autexacademy.com.mx
SUMMARY:Evento Demo
DESCRIPTION:Contenido del evento
URL:https://autexacademy.com.mx/evento/evento-demo/
LOCATION:Autex Zapopan\, Donceles 2298A\, Zapopan\, Jalisco\, 44210\, Mexico
ATTACH;FMTTYPE=image/webp:https://autexacademy.com.mx/wp-content/uploads/2026/01/48.webp
END:VEVENT
END:VCALENDAR